Package: structToolbox Version: 1.23.0 Command: /home/biocbuild/bbs-3.23-bioc/R/bin/R CMD INSTALL structToolbox StartedAt: 2025-11-05 15:38:53 -0500 (Wed, 05 Nov 2025) EndedAt: 2025-11-05 15:39:29 -0500 (Wed, 05 Nov 2025) EllapsedTime: 35.2 seconds RetCode: 0 Status: OK