Package: structToolbox Version: 1.23.0 Command: /home/biocbuild/bbs-3.23-bioc/R/bin/R CMD check --install=check:structToolbox.install-out.txt --library=/home/biocbuild/bbs-3.23-bioc/R/site-library --timings structToolbox_1.23.0.tar.gz StartedAt: 2025-11-07 04:17:58 -0500 (Fri, 07 Nov 2025) EndedAt: 2025-11-07 04:36:50 -0500 (Fri, 07 Nov 2025) EllapsedTime: 1132.4 seconds RetCode: 0 Status: OK CheckDir: structToolbox.Rcheck Warnings: 0