Package: struct Version: 1.23.0 Command: /home/biocbuild/bbs-3.23-bioc/R/bin/R CMD INSTALL struct StartedAt: 2025-11-06 15:30:51 -0500 (Thu, 06 Nov 2025) EndedAt: 2025-11-06 15:31:17 -0500 (Thu, 06 Nov 2025) EllapsedTime: 25.7 seconds RetCode: 0 Status: OK