Package: struct Version: 1.23.0 Command: /home/biocbuild/bbs-3.23-bioc/R/bin/R CMD build --keep-empty-dirs --no-resave-data struct StartedAt: 2025-11-06 20:15:57 -0500 (Thu, 06 Nov 2025) EndedAt: 2025-11-06 20:16:35 -0500 (Thu, 06 Nov 2025) EllapsedTime: 38.0 seconds RetCode: 0 Status: OK PackageFile: struct_1.23.0.tar.gz PackageFileSize: 598.2 KiB