Package: struct Version: 1.21.1 Command: /Library/Frameworks/R.framework/Resources/bin/R CMD check --install=check:struct.install-out.txt --library=/Library/Frameworks/R.framework/Resources/library --no-vignettes --timings struct_1.21.1.tar.gz StartedAt: 2025-10-24 22:23:05 -0400 (Fri, 24 Oct 2025) EndedAt: 2025-10-24 22:24:15 -0400 (Fri, 24 Oct 2025) EllapsedTime: 69.8 seconds RetCode: 0 Status: OK CheckDir: struct.Rcheck Warnings: 0