Package: strandCheckR Version: 1.27.2 Command: /home/biocbuild/R/R/bin/R CMD INSTALL strandCheckR StartedAt: 2025-10-13 21:43:06 -0000 (Mon, 13 Oct 2025) EndedAt: 2025-10-13 21:43:55 -0000 (Mon, 13 Oct 2025) EllapsedTime: 49.3 seconds RetCode: 0 Status: OK