Package: strandCheckR Version: 1.27.1 Command: /home/biocbuild/R/R/bin/R CMD build --keep-empty-dirs --no-resave-data strandCheckR StartedAt: 2025-10-10 04:33:24 -0000 (Fri, 10 Oct 2025) EndedAt: 2025-10-10 04:34:47 -0000 (Fri, 10 Oct 2025) EllapsedTime: 83.0 seconds RetCode: 0 Status: OK PackageFile: strandCheckR_1.27.1.tar.gz PackageFileSize: 938 KiB