Package: strandCheckR Version: 1.29.0 Command: /home/biocbuild/bbs-3.23-bioc/R/bin/R CMD check --install=check:strandCheckR.install-out.txt --library=/home/biocbuild/bbs-3.23-bioc/R/site-library --timings strandCheckR_1.29.0.tar.gz StartedAt: 2025-11-18 05:38:46 -0500 (Tue, 18 Nov 2025) EndedAt: 2025-11-18 05:43:58 -0500 (Tue, 18 Nov 2025) EllapsedTime: 312.4 seconds RetCode: 0 Status: OK CheckDir: strandCheckR.Rcheck Warnings: 0