Package: strandCheckR Version: 1.27.1 Maintainer: Thu-Hien To MaintainerEmail: tothuhien at gmail.com git_url: https://git.bioconductor.org/packages/strandCheckR git_branch: devel git_last_commit: 5fec2b2 git_last_commit_date: 2025-07-23 18:07:14 -0400 (Wed, 23 Jul 2025)