Package: stepNorm Version: 1.81.0 Command: /home/biocbuild/R/R/bin/R CMD INSTALL stepNorm StartedAt: 2025-10-09 20:52:27 -0000 (Thu, 09 Oct 2025) EndedAt: 2025-10-09 20:52:58 -0000 (Thu, 09 Oct 2025) EllapsedTime: 31.1 seconds RetCode: 0 Status: OK