Package: stepNorm Version: 1.81.0 Command: /home/biocbuild/R/R/bin/R CMD build --keep-empty-dirs --no-resave-data stepNorm StartedAt: 2025-10-10 04:33:15 -0000 (Fri, 10 Oct 2025) EndedAt: 2025-10-10 04:33:17 -0000 (Fri, 10 Oct 2025) EllapsedTime: 2.0 seconds RetCode: 0 Status: OK PackageFile: stepNorm_1.81.0.tar.gz PackageFileSize: 460.1 KiB