Package: statTarget Version: 1.39.0 Command: /home/biocbuild/bbs-3.22-bioc/R/bin/R CMD check --install=check:statTarget.install-out.txt --library=/home/biocbuild/bbs-3.22-bioc/R/site-library --timings statTarget_1.39.0.tar.gz StartedAt: 2025-10-15 04:54:28 -0400 (Wed, 15 Oct 2025) EndedAt: 2025-10-15 04:55:08 -0400 (Wed, 15 Oct 2025) EllapsedTime: 40.0 seconds RetCode: 0 Status: OK CheckDir: statTarget.Rcheck Warnings: 0