Package: statTarget Version: 1.41.0 Command: /home/biocbuild/bbs-3.23-bioc/R/bin/R CMD INSTALL statTarget StartedAt: 2025-11-07 15:11:01 -0500 (Fri, 07 Nov 2025) EndedAt: 2025-11-07 15:11:15 -0500 (Fri, 07 Nov 2025) EllapsedTime: 14.2 seconds RetCode: 0 Status: OK