Package: statTarget Version: 1.41.0 Command: /home/biocbuild/bbs-3.23-bioc/R/bin/R CMD build --keep-empty-dirs --no-resave-data statTarget StartedAt: 2025-11-07 20:18:15 -0500 (Fri, 07 Nov 2025) EndedAt: 2025-11-07 20:18:24 -0500 (Fri, 07 Nov 2025) EllapsedTime: 9.0 seconds RetCode: 0 Status: OK PackageFile: statTarget_1.41.0.tar.gz PackageFileSize: 779.1 KiB