Package: standR Version: 1.15.0 Command: /home/biocbuild/bbs-3.23-bioc/R/bin/R CMD INSTALL standR StartedAt: 2025-11-20 15:54:21 -0500 (Thu, 20 Nov 2025) EndedAt: 2025-11-20 15:54:47 -0500 (Thu, 20 Nov 2025) EllapsedTime: 26.0 seconds RetCode: 0 Status: OK