Package: standR Version: 1.13.0 Command: /Library/Frameworks/R.framework/Resources/bin/R CMD INSTALL standR StartedAt: 2025-10-14 15:46:02 -0400 (Tue, 14 Oct 2025) EndedAt: 2025-10-14 15:46:39 -0400 (Tue, 14 Oct 2025) EllapsedTime: 36.8 seconds RetCode: 0 Status: OK