Package: standR Version: 1.13.0 Command: /Library/Frameworks/R.framework/Resources/bin/R CMD build --keep-empty-dirs --no-resave-data standR StartedAt: 2025-10-15 19:40:34 -0400 (Wed, 15 Oct 2025) EndedAt: 2025-10-15 19:42:35 -0400 (Wed, 15 Oct 2025) EllapsedTime: 121.2 seconds RetCode: 0 Status: OK PackageFile: standR_1.13.0.tar.gz PackageFileSize: 2.984 MiB