Package: stPipe Version: 1.1.2 Command: /home/biocbuild/bbs-3.23-bioc/R/bin/R CMD INSTALL stPipe StartedAt: 2025-11-20 15:39:32 -0500 (Thu, 20 Nov 2025) EndedAt: 2025-11-20 15:40:23 -0500 (Thu, 20 Nov 2025) EllapsedTime: 50.2 seconds RetCode: 0 Status: OK