Package: stPipe Version: 1.1.2 Command: /home/biocbuild/bbs-3.23-bioc/R/bin/R CMD build --keep-empty-dirs --no-resave-data stPipe StartedAt: 2025-11-20 20:23:03 -0500 (Thu, 20 Nov 2025) EndedAt: 2025-11-20 20:33:49 -0500 (Thu, 20 Nov 2025) EllapsedTime: 645.9 seconds RetCode: 0 Status: OK PackageFile: stPipe_1.1.2.tar.gz PackageFileSize: 5.843 MiB