Package: stPipe Version: 0.99.994 Command: /Library/Frameworks/R.framework/Resources/bin/R CMD INSTALL stPipe StartedAt: 2025-10-06 15:33:19 -0400 (Mon, 06 Oct 2025) EndedAt: 2025-10-06 15:33:44 -0400 (Mon, 06 Oct 2025) EllapsedTime: 24.5 seconds RetCode: 1 Status: ERROR