Package: stPipe Version: 0.99.994 Command: /Library/Frameworks/R.framework/Resources/bin/R CMD build --keep-empty-dirs --no-resave-data stPipe StartedAt: 2025-10-05 19:13:07 -0400 (Sun, 05 Oct 2025) EndedAt: 2025-10-05 19:13:31 -0400 (Sun, 05 Oct 2025) EllapsedTime: 24.1 seconds RetCode: 1 Status: ERROR PackageFile: None PackageFileSize: NA