Package: stPipe Version: 1.0.0 Command: rm -rf stPipe.buildbin-libdir && mkdir stPipe.buildbin-libdir && /Users/biocbuild/BBS/utils/build-universal.sh stPipe_1.0.0.tar.gz /Library/Frameworks/R.framework/Resources/bin/R stPipe.buildbin-libdir StartedAt: 2025-10-30 08:42:30 -0400 (Thu, 30 Oct 2025) EndedAt: 2025-10-30 08:43:35 -0400 (Thu, 30 Oct 2025) EllapsedTime: 65.6 seconds RetCode: 0 Status: OK PackageFile: stPipe_1.0.0.tgz PackageFileSize: 7.365 MiB