Package: stPipe Version: 0.99.994 Maintainer: Yang Xu MaintainerEmail: xu.ya at wehi.edu.au git_url: https://git.bioconductor.org/packages/stPipe git_branch: devel git_last_commit: 507e0a0 git_last_commit_date: 2025-09-05 06:55:10 -0400 (Fri, 05 Sep 2025)