Package: stJoincount Version: 1.11.0 Command: /home/biocbuild/bbs-3.22-bioc/R/bin/R CMD INSTALL stJoincount StartedAt: 2025-10-17 15:19:35 -0400 (Fri, 17 Oct 2025) EndedAt: 2025-10-17 15:20:31 -0400 (Fri, 17 Oct 2025) EllapsedTime: 56.1 seconds RetCode: 0 Status: OK