Package: stJoincount Version: 1.11.0 Command: /home/biocbuild/bbs-3.22-bioc/R/bin/R CMD build --keep-empty-dirs --no-resave-data --md5 stJoincount StartedAt: 2025-10-17 20:18:34 -0400 (Fri, 17 Oct 2025) EndedAt: 2025-10-17 20:19:56 -0400 (Fri, 17 Oct 2025) EllapsedTime: 81.1 seconds RetCode: 0 Status: OK PackageFile: stJoincount_1.11.0.tar.gz PackageFileSize: 2.673 MiB