Package: ssrch Version: 1.27.0 Command: /home/biocbuild/bbs-3.23-bioc/R/bin/R CMD INSTALL ssrch StartedAt: 2025-11-02 15:13:52 -0500 (Sun, 02 Nov 2025) EndedAt: 2025-11-02 15:14:09 -0500 (Sun, 02 Nov 2025) EllapsedTime: 17.3 seconds RetCode: 0 Status: OK