Package: ssrch Version: 1.27.0 Command: rm -rf ssrch.buildbin-libdir && mkdir ssrch.buildbin-libdir && /Users/biocbuild/BBS/utils/build-universal.sh ssrch_1.27.0.tar.gz /Library/Frameworks/R.framework/Resources/bin/R ssrch.buildbin-libdir StartedAt: 2025-11-22 02:00:35 -0500 (Sat, 22 Nov 2025) EndedAt: 2025-11-22 02:00:44 -0500 (Sat, 22 Nov 2025) EllapsedTime: 9.3 seconds RetCode: 0 Status: OK PackageFile: ssrch_1.27.0.tgz PackageFileSize: 1.387 MiB