Package: ssrch Version: 1.25.0 Command: /Library/Frameworks/R.framework/Resources/bin/R CMD INSTALL ssrch StartedAt: 2025-10-28 15:04:24 -0400 (Tue, 28 Oct 2025) EndedAt: 2025-10-28 15:04:33 -0400 (Tue, 28 Oct 2025) EllapsedTime: 9.1 seconds RetCode: 0 Status: OK