Package: ssrch Version: 1.25.0 Command: /Library/Frameworks/R.framework/Resources/bin/R CMD build --keep-empty-dirs --no-resave-data ssrch StartedAt: 2025-10-28 17:52:43 -0400 (Tue, 28 Oct 2025) EndedAt: 2025-10-28 17:52:47 -0400 (Tue, 28 Oct 2025) EllapsedTime: 4.0 seconds RetCode: 0 Status: OK PackageFile: ssrch_1.25.0.tar.gz PackageFileSize: 1.443 MiB