Package: ssize Version: 1.83.0 Command: /home/biocbuild/R/R/bin/R CMD INSTALL ssize StartedAt: 2025-10-13 20:32:39 -0000 (Mon, 13 Oct 2025) EndedAt: 2025-10-13 20:33:23 -0000 (Mon, 13 Oct 2025) EllapsedTime: 44.7 seconds RetCode: 0 Status: OK