Package: ssize Version: 1.83.0 Command: /home/biocbuild/R/R/bin/R CMD build --keep-empty-dirs --no-resave-data ssize StartedAt: 2025-10-14 03:57:31 -0000 (Tue, 14 Oct 2025) EndedAt: 2025-10-14 03:57:39 -0000 (Tue, 14 Oct 2025) EllapsedTime: 8.0 seconds RetCode: 0 Status: OK PackageFile: ssize_1.83.0.tar.gz PackageFileSize: 532.3 KiB