Package: ssize Version: 1.85.0 Command: /home/biocbuild/bbs-3.23-bioc/R/bin/R CMD check --install=check:ssize.install-out.txt --library=/home/biocbuild/bbs-3.23-bioc/R/site-library --timings ssize_1.85.0.tar.gz StartedAt: 2025-11-22 04:31:20 -0500 (Sat, 22 Nov 2025) EndedAt: 2025-11-22 04:31:43 -0500 (Sat, 22 Nov 2025) EllapsedTime: 23.0 seconds RetCode: 0 Status: OK CheckDir: ssize.Rcheck Warnings: 0