Package: sscu Version: 2.41.0 Command: /home/biocbuild/bbs-3.23-bioc/R/bin/R CMD INSTALL sscu StartedAt: 2025-11-04 15:14:05 -0500 (Tue, 04 Nov 2025) EndedAt: 2025-11-04 15:14:15 -0500 (Tue, 04 Nov 2025) EllapsedTime: 9.8 seconds RetCode: 0 Status: OK