Package: sscu Version: 2.41.0 Command: /home/biocbuild/bbs-3.23-bioc/R/bin/R CMD build --keep-empty-dirs --no-resave-data sscu StartedAt: 2025-11-05 20:21:36 -0500 (Wed, 05 Nov 2025) EndedAt: 2025-11-05 20:21:51 -0500 (Wed, 05 Nov 2025) EllapsedTime: 15.0 seconds RetCode: 0 Status: OK PackageFile: sscu_2.41.0.tar.gz PackageFileSize: 1.287 MiB