Package: sscu Version: 2.39.0 Command: /Library/Frameworks/R.framework/Resources/bin/R CMD INSTALL sscu StartedAt: 2025-10-12 15:18:12 -0400 (Sun, 12 Oct 2025) EndedAt: 2025-10-12 15:18:27 -0400 (Sun, 12 Oct 2025) EllapsedTime: 14.5 seconds RetCode: 0 Status: OK