Package: sscu Version: 2.39.0 Command: /Library/Frameworks/R.framework/Resources/bin/R CMD build --keep-empty-dirs --no-resave-data sscu StartedAt: 2025-10-12 19:28:14 -0400 (Sun, 12 Oct 2025) EndedAt: 2025-10-12 19:28:42 -0400 (Sun, 12 Oct 2025) EllapsedTime: 27.5 seconds RetCode: 0 Status: OK PackageFile: sscu_2.39.0.tar.gz PackageFileSize: 1.287 MiB