Package: ssPATHS Version: 1.23.0 Command: /home/biocbuild/R/R/bin/R CMD INSTALL ssPATHS StartedAt: 2025-10-23 20:41:58 -0000 (Thu, 23 Oct 2025) EndedAt: 2025-10-23 20:42:30 -0000 (Thu, 23 Oct 2025) EllapsedTime: 32.2 seconds RetCode: 0 Status: OK