Package: ssPATHS Version: 1.23.0 Command: /home/biocbuild/R/R/bin/R CMD build --keep-empty-dirs --no-resave-data ssPATHS StartedAt: 2025-10-21 03:31:14 -0000 (Tue, 21 Oct 2025) EndedAt: 2025-10-21 03:32:02 -0000 (Tue, 21 Oct 2025) EllapsedTime: 48.0 seconds RetCode: 0 Status: OK PackageFile: ssPATHS_1.23.0.tar.gz PackageFileSize: 3.668 MiB