Package: ssPATHS Version: 1.23.0 Command: /home/biocbuild/bbs-3.22-bioc/R/bin/R CMD check --install=check:ssPATHS.install-out.txt --library=/home/biocbuild/bbs-3.22-bioc/R/site-library --timings ssPATHS_1.23.0.tar.gz StartedAt: 2025-10-16 05:29:44 -0400 (Thu, 16 Oct 2025) EndedAt: 2025-10-16 05:33:01 -0400 (Thu, 16 Oct 2025) EllapsedTime: 197.2 seconds RetCode: 0 Status: OK CheckDir: ssPATHS.Rcheck Warnings: 0