Package: ssPATHS Version: 1.25.0 Command: /home/biocbuild/bbs-3.23-bioc/R/bin/R CMD INSTALL ssPATHS StartedAt: 2025-11-05 15:29:04 -0500 (Wed, 05 Nov 2025) EndedAt: 2025-11-05 15:29:29 -0500 (Wed, 05 Nov 2025) EllapsedTime: 25.3 seconds RetCode: 0 Status: OK