Package: ssPATHS Version: 1.25.0 Command: /home/biocbuild/bbs-3.23-bioc/R/bin/R CMD build --keep-empty-dirs --no-resave-data ssPATHS StartedAt: 2025-11-05 20:21:57 -0500 (Wed, 05 Nov 2025) EndedAt: 2025-11-05 20:22:34 -0500 (Wed, 05 Nov 2025) EllapsedTime: 37.1 seconds RetCode: 0 Status: OK PackageFile: ssPATHS_1.25.0.tar.gz PackageFileSize: 3.672 MiB