Package: ssPATHS Version: 1.23.0 Command: rm -rf ssPATHS.buildbin-libdir && mkdir ssPATHS.buildbin-libdir && /Users/biocbuild/BBS/utils/build-universal.sh ssPATHS_1.23.0.tar.gz /Library/Frameworks/R.framework/Resources/bin/R ssPATHS.buildbin-libdir StartedAt: 2025-09-30 02:10:22 -0400 (Tue, 30 Sep 2025) EndedAt: 2025-09-30 02:11:00 -0400 (Tue, 30 Sep 2025) EllapsedTime: 37.9 seconds RetCode: 0 Status: OK PackageFile: ssPATHS_1.23.0.tgz PackageFileSize: 3.704 MiB