Package: srnadiff Version: 1.31.0 Command: /Library/Frameworks/R.framework/Resources/bin/R CMD INSTALL srnadiff StartedAt: 2025-11-20 15:52:14 -0500 (Thu, 20 Nov 2025) EndedAt: 2025-11-20 15:53:48 -0500 (Thu, 20 Nov 2025) EllapsedTime: 94.1 seconds RetCode: 0 Status: OK