Package: srnadiff Version: 1.31.0 Command: /Library/Frameworks/R.framework/Resources/bin/R CMD build --keep-empty-dirs --no-resave-data srnadiff StartedAt: 2025-11-20 18:54:29 -0500 (Thu, 20 Nov 2025) EndedAt: 2025-11-20 18:56:45 -0500 (Thu, 20 Nov 2025) EllapsedTime: 135.9 seconds RetCode: 0 Status: OK PackageFile: srnadiff_1.31.0.tar.gz PackageFileSize: 2.425 MiB