Package: srnadiff Version: 1.31.0 Command: rm -rf srnadiff.buildbin-libdir && mkdir srnadiff.buildbin-libdir && /Users/biocbuild/BBS/utils/build-universal.sh srnadiff_1.31.0.tar.gz /Library/Frameworks/R.framework/Resources/bin/R srnadiff.buildbin-libdir StartedAt: 2025-11-21 01:59:57 -0500 (Fri, 21 Nov 2025) EndedAt: 2025-11-21 02:01:36 -0500 (Fri, 21 Nov 2025) EllapsedTime: 98.5 seconds RetCode: 0 Status: OK PackageFile: srnadiff_1.31.0.tgz PackageFileSize: 2.896 MiB