Package: srnadiff Version: 1.29.1 Command: /Library/Frameworks/R.framework/Resources/bin/R CMD INSTALL srnadiff StartedAt: 2025-10-16 15:38:02 -0400 (Thu, 16 Oct 2025) EndedAt: 2025-10-16 15:38:30 -0400 (Thu, 16 Oct 2025) EllapsedTime: 27.4 seconds RetCode: 0 Status: OK