Package: srnadiff Version: 1.29.1 Command: rm -rf srnadiff.buildbin-libdir && mkdir srnadiff.buildbin-libdir && /Users/biocbuild/BBS/utils/build-universal.sh srnadiff_1.29.1.tar.gz /Library/Frameworks/R.framework/Resources/bin/R srnadiff.buildbin-libdir StartedAt: 2025-10-16 23:19:30 -0400 (Thu, 16 Oct 2025) EndedAt: 2025-10-16 23:19:59 -0400 (Thu, 16 Oct 2025) EllapsedTime: 29.7 seconds RetCode: 0 Status: OK PackageFile: srnadiff_1.29.1.tgz PackageFileSize: 2.897 MiB