Package: squallms Version: 1.3.0 Command: /home/biocbuild/bbs-3.22-bioc/R/bin/R CMD INSTALL squallms StartedAt: 2025-09-30 15:43:46 -0400 (Tue, 30 Sep 2025) EndedAt: 2025-09-30 15:44:30 -0400 (Tue, 30 Sep 2025) EllapsedTime: 44.6 seconds RetCode: 0 Status: OK