Package: spqn Version: 1.23.0 Command: /Library/Frameworks/R.framework/Resources/bin/R CMD INSTALL spqn StartedAt: 2025-11-27 15:35:16 -0500 (Thu, 27 Nov 2025) EndedAt: 2025-11-27 15:35:49 -0500 (Thu, 27 Nov 2025) EllapsedTime: 32.6 seconds RetCode: 0 Status: OK