Package: spqn Version: 1.23.0 Command: /Library/Frameworks/R.framework/Resources/bin/R CMD build --keep-empty-dirs --no-resave-data spqn StartedAt: 2025-11-27 18:56:29 -0500 (Thu, 27 Nov 2025) EndedAt: 2025-11-27 18:58:10 -0500 (Thu, 27 Nov 2025) EllapsedTime: 100.6 seconds RetCode: 0 Status: OK PackageFile: spqn_1.23.0.tar.gz PackageFileSize: 2.81 MiB